BEGIN:VCALENDAR
PRODID:-//Bizzabo//EN
VERSION:2.0
BEGIN:VEVENT
UID:event-840063
ORGANIZER;CN="Evening with Ceres 2026":mailto:eventsteam@ceres.org
DTSTAMP:20260423T023029Z
DTSTART:20261026T213000Z
DTEND:20261027T013000Z
SUMMARY:Evening with Ceres 2026
DESCRIPTION:Join us in Boston at the Seaport Hotel on October 26 for Cer
 es’ signature annual dinner, bringing together investors, co
 rporate leaders, philanthropists, and changemakers advancing
  clean energy investment and sustainable business leadership
 .\n\nhttps://events.ceres.org/eveningwithceres/agenda
LOCATION:Seaport Hotel Boston, Seaport Lane, Boston, MA, USA
END:VEVENT
END:VCALENDAR